Workbook

Sheet Tong hop
A1: TỔNG HỌP DỰ ÁN PTN KHOA CN ĐIỆN - ĐIỆN TỬ
A2: BẢNG TỔNG HỢP
B3: PHẦN I: THIẾT BỊ | D3: Date 04/2/2018
A4: Stt | B4: PTN | C4: S'lg | D4: Thành tiền (ĐVN) | E4: Ghi chú
A5: 1 | B5: PHÒNG THỰC HÀNH ĐIỆN - KHÍ NÉN | C5: 1 | D5: ='PTN Khi Nen'!H89 -> 3368788500
A6: 2 | B6: PHÒNG THỰC HÀNH ĐIỆN - THỦY LỰC | C6: 1 | D6: ='PTN thuy luc'!H79 -> 5295246000
A7: 3 | B7: PHÒNG THỰC HÀNH TỰ ĐỘNG HÓA | D7: ='PTN TĐH'!H59 -> 6178989500
A8: 4 | B8: PHÒNG THỰC HÀNH MPS-PA | C8: 1 | D8: ='MPS PA'!H38 -> 4598920500
A9: 5 | B9: HỆ THỐNG THỰC HÀNH MPS 4.0 - Công nghệ 4.0 | C9: 1 | D9: ='MPS I4.0 '!H12 -> 3372015500
A10: 6 | B10: PHÒNG THỰC HÀNH MPS 210 (12 stations) | C10: 1 | D10: ='MPS 210 Full(12 stations) '!H85 -> 10809757500
A11: 7 | B11: PHÒNG THỰC HÀNH MPS 500-FMS | C11: 1 | D11: ='MPS-500 -FMS '!H76 -> 11148499000
B12: TỔNG CỘNG (ĐÃ BAO GỒM VAT) | D12: =SUM(D5:D11) -> 44772216500
B14: PHẦN II: LẮP ĐẶT, ĐÀO TẠO
A15: Stt | B15: PTN | C15: S'lg | D15: Thành tiền (ĐVN) | E15: Ghi chú
B16: LẮP ĐẶT VÀ ĐÀO TẠO | D16: =Training!H21 -> 1509200000
B18: TỔNG CỘNG PHẦN I + PHẦN II | D18: =D12+D16 -> 46281416500
B19: (Đã bao gồm thuế GTGT)

Sheet PTN Khi Nen
B1: PHÒNG THỰC HÀNH ĐIỆN - KHÍ NÉN
G2: Date 04/2/2018
A3: STT | B3: Thiết bị & Đặc tính kỹ thuật | C3: Xuất xứ | D3: Mã số | E3: S'lg | F3: Đvt | G3: Đơn giá (Chưa bao gồm VAT) (ĐVN) | H3: Thành tiền (Chưa bao gồm VAT) (ĐVN)
B4: Workstation & accessories for workstation:
A5: 1 | B5: Mobile laboratory workbench double side with profile plate and frame for mounting electrical components | C5: Festo | D5: 539028 | E5: 2 | F5: Pcs | G5: 167340000 | H5: =G5*E5 -> 334680000
A6: 2 | B6: Fixed drawer with 4 drawer for installation in mobile workstations | C6: Festo | D6: 535833 | E6: 4 | F6: Pcs | G6: 60510000 | H6: =G6*E6 -> 242040000
A7: 3 | B7: Cable guide | C7: Festo | D7: 535812 | E7: 4 | F7: Pcs | G7: 3910000 | H7: =G7*E7 -> 15640000
A8: 5 | B8: Power supply unit for mounting frame | C8: Festo | D8: 159382 | E8: 4 | F8: pcs | G8: 23100000 | H8: =G8*E8 -> 92400000
A9: 6 | B9: IEC power cable | C9: Festo | D9: 247661 | E9: 4 | F9: pcs | G9: 720000 | H9: =G9*E9 -> 2880000
A10: 8 | B10: 4 mm Safety laboratory cables, 106 pieces, red, blue and black | C10: Festo | D10: 571806 | E10: 4 | F10: set | G10: 25870000 | H10: =G10*E10 -> 103480000
A11: 9 | B11: Compressor | C11: Festo | D11: 91030 | E11: 2 | F11: pcs | G11: 62800000 | H11: =G11*E11 -> 125600000
A12: 10 | B12: Compressor accessories | C12: Festo | D12: 102725 | E12: 2 | F12: pcs | G12: 1500000 | H12: =G12*E12 -> 3000000
B13: Equipment set: | G13: 0 | H13: =G13*E13 -> 0
A14: 11 | B14: Equipment set TP 101 – Basic level: Basic pneumatics training | C14: Festo | D14: 540710 | E14: 4 | F14: Set | G14: 147490000 | H14: =G14*E14 -> 589960000
A15: 11.01 | B15: 3/2-way valve with pushbutton actuator, normally closed | D15: 152860 | E15: 2 | F15: pcs | G15: 0 | H15: =G15*E15 -> 0
A16: 11.02 | B16: 3/2-way valve with pushbutton actuator, normally open | D16: 152861 | E16: 1 | F16: pcs | G16: 0 | H16: =G16*E16 -> 0
A17: 11.03 | B17: 5/2-way valve with selector switch | D17: 152862 | E17: 1 | F17: pcs | G17: 0 | H17: =G17*E17 -> 0
A18: 11.04 | B18: 3/2-way valve with selector switch, normally closed | D18: 152863 | E18: 1 | F18: pcs | G18: 0 | H18: =G18*E18 -> 0
A19: 11.05 | B19: 3/2-way roller lever valve, normally closed | D19: 152866 | E19: 2 | F19: pcs | G19: 0 | H19: =G19*E19 -> 0
A20: 11.06 | B20: Proximity sensor, pneumatic, with cylinder attachment | D20: 2764815 | E20: 2 | F20: pcs | G20: 0 | H20: =G20*E20 -> 0
A21: 11.07 | B21: Pneumatic timer, normally closed | D21: 540694 | E21: 1 | F21: pcs | G21: 0 | H21: =G21*E21 -> 0
A22: 11.08 | B22: Pressure sequence valve | D22: 152884 | E22: 1 | F22: pcs | G22: 0 | H22: =G22*E22 -> 0
A23: 11.09 | B23: 3/2-way valve, pneumatically actuated at one end | D23: 576302 | E23: 1 | F23: pcs | G23: 0 | H23: =G23*E23 -> 0
A24: 11.10 | B24: 5/2-way valve, pneumatically actuated at one end | D24: 576307 | E24: 1 | F24: pcs | G24: 0 | H24: =G24*E24 -> 0
A25: 11.11 | B25: 5/2-way double pilot valve, pneumatically actuated at both ends | D25: 576303 | E25: 3 | F25: pcs | G25: 0 | H25: =G25*E25 -> 0
A26: 11.12 | B26: Shuttle valve (OR) | D26: 539771 | E26: 1 | F26: pcs | G26: 0 | H26: =G26*E26 -> 0
... A36: 11.22 | B36: Plastic tubing 4 x 0.75 Silver (10 m) | D36: 151496 | E36: 2 | F36: pcs | G36: 0 | H36: =G36*E36 -> 0
A37: 13 | B37: Supplementary equipment set to upgrade from Pneumatics, Basic level TP 101 to Electropneumatics, Basic level TP 201 | C37: Festo | D37: 540717 | E37: 4 | F37: Set | G37: 144610000 | H37: =G37*E37 -> 578440000
A38: 13.01 | B38: Signal input, electrical | D38: 162242 | E38: 1 | F38: pcs | G38: 0 | H38: =G38*E38 -> 0
A39: 13.02 | B39: Relay, three-fold | D39: 162241 | E39: 2 | F39: pcs | G39: 0 | H39: =G39*E39 -> 0
A40: 13.03 | B40: Limit switch, electrical, left-actuated | D40: 183322 | E40: 1 | F40: pcs | G40: 0 | H40: =G40*E40 -> 0
A41: 13.04 | B41: Limit switch, electrical, right-actuated | D41: 183345 | E41: 1 | F41: pcs | G41: 0 | H41: =G41*E41 -> 0
A42: 13.05 | B42: Proximity sensor, optical, M12 | D42: 572744 | E42: 1 | F42: pcs | G42: 0 | H42: =G42*E42 -> 0
A43: 13.06 | B43: Electronic proximity switch with cylinder attachment | D43: 2344752 | E43: 2 | F43: pcs | G43: 0 | H43: =G43*E43 -> 0
A44: 13.07 | B44: 2 x 3/2-way solenoid valve with LED, normally closed | D44: 567198 | E44: 1 | F44: pcs | G44: 0 | H44: =G44*E44 -> 0
A45: 13.08 | B45: 5/2-way solenoid valve with LED | D45: 567199 | E45: 1 | F45: pcs | G45: 0 | H45: =G45*E45 -> 0
A46: 13.09 | B46: 2x 5/2-way double solenoid valve with LED | D46: 567200 | E46: 2 | F46: pcs | G46: 0 | H46: =G46*E46 -> 0
A47: 13.10 | B47: Pressure sensor with display | D47: 572745 | E47: 1 | F47: pcs | G47: 0 | H47: =G47*E47 -> 0
A48: 13.11 | B48: One-way flow control valve | D48: 193967 | E48: 2 | F48: pcs | G48: 0 | H48: =G48*E48 -> 0
A49: 13.12 | B49: Double-acting cylinder | D49: 152888 | E49: 1 | F49: pcs | G49: 0 | H49: =G49*E49 -> 0
A50: 14 | B50: Equipment set TP 240 – Advanced level: Sensors in pneumatics | C50: Festo | D50: 566908 | E50: 4 | F50: Set | G50: 120790000 | H50: =G50*E50 -> 483160000
A51: 14.01 | B51: Position transmitter, 0 – 50 mm, analogue | D51: 560124 | E51: 1 | F51: pcs | G51: 0 | H51: =G51*E51 -> 0
A52: 14.02 | B52: Signal converter for position transmitter | D52: 548621 | E52: 1 | F52: pcs | G52: 0 | H52: =G52*E52 -> 0
A53: 14.03 | B53: Electronic pressure sensor, 0 – 10 bar | D53: 548622 | E53: 1 | F53: pcs | G53: 0 | H53: =G53*E53 -> 0
A54: 14.04 | B54: Flow sensor, 0.5 – 50 l/min, analogue | D54: 8036235 | E54: 1 | F54: pcs | G54: 0 | H54: =G54*E54 -> 0
A55: 14.05 | B55: Flow sensor, -1 – 1 l/min, analogue | D55: 548625 | E55: 1 | G55: 0 | H55: =G55*E55 -> 0
A56: 14.06 | B56: Pressure switch, 0 to -1 bar | D56: 548624 | E56: 1 | F56: pcs | G56: 0 | H56: =G56*E56 -> 0
A57: 14.07 | B57: Vacuum generator | D57: 548628 | E57: 1 | F57: pcs | G57: 0 | H57: =G57*E57 -> 0
A58: 14.08 | B58: Suction gripper | D58: 560158 | E58: 1 | F58: pcs | G58: 0 | H58: =G58*E58 -> 0
A59: 14.09 | B59: One-way flow control valve | D59: 560159 | E59: 1 | F59: pcs | G59: 0 | H59: =G59*E59 -> 0
A60: 14.10 | B60: Pressure regulator valve with gauge | D60: 539756 | E60: 1 | F60: pcs | G60: 0 | H60: =G60*E60 -> 0
A61: 14.11 | B61: Stop, 35 mm adjustment path | D61: 548630 | E61: 1 | F61: pcs | G61: 0 | H61: =G61*E61 -> 0
A62: 14.12 | B62: Double-acting profile cylinder | D62: 549832 | E62: 1 | F62: pcs | G62: 0 | H62: =G62*E62 -> 0
A63: 17 | B63: Indicator unit and distributor, electrical | C63: Festo | D63: 162244 | E63: 4 | F63: pcs | G63: 13590000 | H63: =G63*E63 -> 54360000
A64: 22 | B64: Accessory box | C64: Festo | D64: 167020 | E64: 1 | F64: pcs | G64: 22560000 | H64: =G64*E64 -> 22560000
A65: 24 | B65: Basic principles of pneumatics and electropneumatics Textbook | C65: Festo | D65: 573030 | E65: 1 | F65: pcs | G65: 4570000 | H65: =G65*E65 -> 4570000
A66: 25 | B66: Pneumatics, Basic level TP 101: Workbook | C66: Festo | D66: 541088 | E66: 1 | F66: pcs | G66: 19610000 | H66: =G66*E66 -> 19610000
A67: 26 | B67: Electropneumatics, Basic level TP 201: Workbook | C67: Festo | D67: 541090 | E67: 1 | F67: pcs | G67: 19610000 | H67: =G67*E67 -> 19610000
A68: 27 | B68: Sensors in pneumatics TP 240: Workbook | C68: Festo | D68: 566910 | E68: 1 | F68: pcs | G68: 19610000 | H68: =G68*E68 -> 19610000
A69: 29 | B69: Pneumatics/Hydraulics Magnetic symbol sets | C69: Festo | D69: 162340 | E69: 1 | F69: pcs | G69: 24120000 | H69: =G69*E69 -> 24120000
A70: 30 | B70: Electrical engineering Magnetic symbol sets | C70: Festo | D70: 162341 | E70: 1 | F70: pcs | G70: 19610000 | H70: =G70*E70 -> 19610000
A71: 31 | B71: Set of posters on pneumatic | C71: Festo | D71: 551015 | E71: 1 | F71: set | G71: 1440000 | H71: =G71*E71 -> 1440000
A72: 32 | B72: Sensor technology 1: WBT | C72: Festo | D72: 549752 | E72: 4 | F72: pcs | G72: 15180000 | H72: =G72*E72 -> 60720000
A73: 33 | B73: FluidSIM® 5 for Pneumatics | C73: Festo | D73: 8024357 | E73: 4 | F73: licences | G73: 44680000 | H73: =G73*E73 -> 178720000
B74: Other equipments for Workstation: | G74: 0 | H74: =G74*E74 -> 0
A75: 34 | B75: Computer | C75: HP/DELL… | E75: 5 | F75: pcs | G75: 15000000 | H75: =G75*E75 -> 75000000
A76: 35 | B76: Teacher desk | C76: Asia/VN | E76: 1 | F76: pcs | G76: 3900000 | H76: =G76*E76 -> 3900000
A77: 36 | B77: Teacher chair | C77: Asia/VN | E77: 1 | F77: pcs | G77: 500000 | H77: =G77*E77 -> 500000
A78: 37 | B78: Student table | C78: Asia/VN | E78: 10 | F78: pcs | G78: 3400000 | H78: =G78*E78 -> 34000000
A79: 38 | B79: Student chair | C79: Asia/VN | E79: 20 | F79: pcs | G79: 400000 | H79: =G79*E79 -> 8000000
A80: 39 | B80: Blackboard | C80: Asia/VN | E80: 1 | F80: pcs | G80: 4000000 | H80: =G80*E80 -> 4000000
A81: 40 | B81: Projector | C81: Asia/VN | E81: 1 | F81: pcs | G81: 35000000 | H81: =G81*E81 -> 35000000
A82: 41 | B82: Screen | C82: Asia/VN | E82: 1 | F82: pcs | G82: 2600000 | H82: =G82*E82 -> 2600000
A83: 42 | B83: Storage cabinet | C83: Asia/VN | E83: 2 | F83: pcs | G83: 5200000 | H83: =G83*E83 -> 10400000
A84: 43 | B84: Máy lạnh 2 HP | C84: Asia/VN | E84: 2 | F84: pcs | G84: 20000000 | H84: =G84*E84 -> 40000000
B85: GIÁ TRỊ HÀNG HÓA | H85: =SUM(H5:H84) -> 3209610000
B86: V.A.T 0% (Mục 32-33)
B87: V.A.T 5% (Mục 1-31) | H87: =(H85-H72-H73-H75-H76-H77-H78-H79-H80-H81-H82-H83-H84)*0.05 -> 137838500
B88: V.A.T 10% (Mục 34-43) | H88: =(H75+H76+H77+H78+H79+H80+H81+H82+H83+H84)*0.1 -> 21340000
B89: TỔNG CỘNG | H89: =H85+H87+H88 -> 3368788500

Sheet PTN thuy luc
B1: PHÒNG THỰC HÀNH ĐIỆN - THỦY LỰC
G2: Date 04/2/2018
A3: STT | B3: Thiết bị & Đặc tính kỹ thuật | C3: Xuất xứ | D3: Mã số | E3: S'lg | F3: Đvt | G3: Đơn giá (Chưa bao gồm VAT) (ĐVN) | H3: Thành tiền (Chưa bao gồm VAT) (ĐVN)
B4: Workstation & accessories for workstation:
A5: 1 | B5: Mobile laboratory workbench double side with profile plate and frame for mounting electrical components | C5: Festo | D5: 539028 | E5: 2 | F5: pcs | G5: 167340000 | H5: =G5*E5 -> 334680000
A6: 2 | B6: Fixed drawer unit hydraulic with 3 drawers | C6: Festo | D6: 539026 | E6: 4 | F6: pcs | G6: 55700000 | H6: =G6*E6 -> 222800000
A7: 3 | B7: Oil spillage/protective mat | C7: Festo | D7: 541133 | E7: 4 | F7: pcs | G7: 10890000 | H7: =G7*E7 -> 43560000
A8: 4 | B8: Hose holder | C8: Festo | D8: 539737 | E8: 2 | F8: pcs | G8: 5470000 | H8: =G8*E8 -> 10940000
A9: 5 | B9: Cable guide | C9: Festo | D9: 535812 | E9: 2 | F9: pcs | G9: 3910000 | H9: =G9*E9 -> 7820000
A10: 6 | B10: Measuring container for hydraulic oil | C10: Festo | D10: 541134 | E10: 4 | F10: pcs | G10: 41990000 | H10: =G10*E10 -> 167960000
A11: 7 | B11: Universal bracket | C11: Festo | D11: 539736 | E11: 2 | F11: pcs | G11: 5350000 | H11: =G11*E11 -> 10700000
A12: 8 | B12: Power supply unit 24 VDC for mounting frame | C12: Festo | D12: 159396 | E12: 4 | F12: pcs | G12: 23460000 | H12: =G12*E12 -> 93840000
A13: 9 | B13: IEC power cable | C13: Festo | D13: 247661 | E13: 4 | F13: pcs | G13: 720000 | H13: =G13*E13 -> 2880000
A14: 10 | B14: 4 mm Safety laboratory cables, 106 pieces, red, blue and black | C14: Festo | D14: 571806 | E14: 4 | F14: set | G14: 25870000 | H14: =G14*E14 -> 103480000
A15: 12 | B15: Hydraulic power pack with two constant-displacement pumps and one motor | C15: Festo | D15: 539733 | E15: 2 | F15: pcs | G15: 253240000 | H15: =G15*E15 -> 506480000
B16: Hydraulics training equipment: | G16: 0 | H16: =G16*E16 -> 0
A17: 13 | B17: Basic hydraulics training equipment set TP 501 | C17: Festo | D17: 573035 | E17: 4 | F17: set | G17: 364520000 | H17: =G17*E17 -> 1458080000
A18: 13.01 | B18: Pressure relief valve | D18: 544335 | E18: 1 | F18: pcs | G18: 0 | H18: =G18*E18 -> 0
A19: 13.02 | B19: 2-way flow control valve | D19: 544338 | E19: 1 | F19: pcs | G19: 0 | H19: =G19*E19 -> 0
A20: 13.03 | B20: One-way flow control valve | D20: 152843 | E20: 1 | F20: pcs | G20: 0 | H20: =G20*E20 -> 0
A21: 13.04 | B21: Non-return valve, delockable | D21: 544339 | E21: 1 | F21: pcs | G21: 0 | H21: =G21*E21 -> 0
A22: 13.05 | B22: Non-return valve, 0,6 MPa opening pressure | D22: 548618 | E22: 1 | F22: pcs | G22: 0 | H22: =G22*E22 -> 0
A23: 13.06 | B23: 4/2-way hand lever valve, spring return | D23: 544342 | E23: 1 | F23: pcs | G23: 0 | H23: =G23*E23 -> 0
A24: 13.07 | B24: 4/3-way hand lever valve, relieving mid-position (AB->T), detenting | D24: 544344 | E24: 1 | F24: pcs | G24: 0 | H24: =G24*E24 -> 0
A25: 13.08 | B25: 4/3-way hand lever valve, closed mid-position, detenting | D25: 544343 | E25: 1 | F25: pcs | G25: 0 | H25: =G25*E25 -> 0
A26: 13.09 | B26: Shut-off valve | D26: 152844 | E26: 1 | F26: pcs | G26: 0 | H26: =G26*E26 -> 0
A27: 13.10 | B27: Differential cylinder 16/10/200 with cover | D27: 572746 | E27: 1 | F27: pcs | G27: 0 | H27: =G27*E27 -> 0
A28: 13.11 | B28: Weight, 9 kg for cylinder | D28: 152972 | E28: 1 | F28: pcs | G28: 0 | H28: =G28*E28 -> 0
A29: 13.12 | B29: Hydraulic motor | D29: 152858 | E29: 1 | F29: pcs | G29: 0 | H29: =G29*E29 -> 0
... A33: 13.16 | B33: Flow sensor | D33: 567191 | E33: 1 | F33: pcs | G33: 0 | H33: =G33*E33 -> 0
B34: Electrohydraulics: | G34: 0 | H34: =G34*E34 -> 0
A35: 14 | B35: Supplementary equipment set from Hydraulics, Basic level TP 501 to Electrohydraulics, Basic level TP 601 | C35: Festo | D35: 573039 | E35: 4 | F35: set | G35: 242650000 | H35: =G35*E35 -> 970600000
A36: 14.01 | B36: Relay, three-fold | D36: 162241 | E36: 2 | F36: pcs | G36: 0 | H36: =G36*E36 -> 0
A37: 14.02 | B37: Signal input, electrical | D37: 162242 | E37: 1 | F37: pcs | G37: 0 | H37: =G37*E37 -> 0
A38: 14.03 | B38: Limit switch, electrical, left-actuated | D38: 183322 | E38: 1 | F38: pcs | G38: 0 | H38: =G38*E38 -> 0
A39: 14.04 | B39: Limit switch, electrical, right-actuated | D39: 183345 | E39: 1 | F39: pcs | G39: 0 | H39: =G39*E39 -> 0
A40: 14.05 | B40: 4/2-way double solenoid valve, detenting | D40: 544352 | E40: 1 | F40: pcs | G40: 0 | H40: =G40*E40 -> 0
A41: 14.06 | B41: 4/2-way double solenoid valve, spring return | D41: 544346 | E41: 1 | F41: pcs | G41: 0 | H41: =G41*E41 -> 0
A42: 14.07 | B42: 4/3-way solenoid valve, closed mid-position | D42: 544347 | E42: 1 | F42: pcs | G42: 0 | H42: =G42*E42 -> 0
A43: 14.08 | B43: Differential cylinder 16/10/200 with cover | D43: 572746 | E43: 1 | F43: pcs | G43: 0 | H43: =G43*E43 -> 0
A44: 14.09 | B44: Mounting kit for cylinders | D44: 544371 | E44: 1 | F44: pcs | G44: 0 | H44: =G44*E44 -> 0
A45: 14.10 | B45: Pressure switch, electronic | D45: 548612 | E45: 1 | F45: pcs | G45: 0 | H45: =G45*E45 -> 0
A46: 14.11 | B46: Proximity switch, electronic | D46: 2342009 | E46: 2 | F46: pcs | G46: 0 | H46: =G46*E46 -> 0
A47: 14.12 | B47: T-distributor | D47: 152847 | E47: 1 | F47: pcs | G47: 0 | H47: =G47*E47 -> 0
G48: 0 | H48: =G48*E48 -> 0
A49: 15 | B49: Proximity sensor M12 | C49: Festo | D49: 548643 | E49: 4 | F49: pcs | G49: 5170000 | H49: =G49*E49 -> 20680000
A50: 16 | B50: Emergency stop pushbutton, electrical | C50: Festo | D50: 183347 | E50: 4 | F50: pcs | G50: 5770000 | H50: =G50*E50 -> 23080000
A51: 17 | B51: Hose line with quick release couplings. Tube length: 600 mm | C51: Festo | D51: 152960 | E51: 24 | F51: pcs | G51: 6980000 | H51: =G51*E51 -> 167520000
A52: 18 | B52: Hose line with quick release couplings. Tube length: 1000 mm | C52: Festo | D52: 152970 | E52: 16 | F52: pcs | G52: 7100000 | H52: =G52*E52 -> 113600000
A53: 19 | B53: Hose line with quick release couplings. Tube length: 1500 mm | C53: Festo | D53: 159386 | E53: 8 | F53: pcs | G53: 7220000 | H53: =G53*E53 -> 57760000
A54: 20 | B54: Pressure relief unit | C54: Festo | D54: 152971 | E54: 4 | F54: pcs | G54: 3970000 | H54: =G54*E54 -> 15880000
A55: 21 | B55: Measuring case | C55: Festo | D55: 177468 | E55: 2 | F55: pcs | G55: 99490000 | H55: =G55*E55 -> 198980000
A56: 22 | B56: Fundermental of hydraulics and electrohydraulics, Textbook | C56: Festo | D56: 574181 | E56: 1 | F56: pcs | G56: 4570000 | H56: =G56*E56 -> 4570000
A57: 23 | B57: Hydraulics basic level, Workbook | C57: Festo | D57: 551141 | E57: 1 | F57: pcs | G57: 19610000 | H57: =G57*E57 -> 19610000
A58: 24 | B58: Electrohydraulics basic level, Workbook | C58: Festo | D58: 551150 | E58: 1 | F58: pcs | G58: 19610000 | H58: =G58*E58 -> 19610000
A59: 25 | B59: Pneumatics/Hydraulics Magnetic symbol sets | C59: Festo | D59: 162340 | E59: 1 | F59: pcs | G59: 24120000 | H59: =G59*E59 -> 24120000
A60: 26 | B60: Electrical engineering Magnetic symbol sets | C60: Festo | D60: 162341 | E60: 1 | F60: pcs | G60: 19610000 | H60: =G60*E60 -> 19610000
... A63: 29 | B63: Hydraulic oil (DIN 51524) | C63: Festo | D63: 14572 | E63: 4 | F63: pcs | G63: 6930000 | H63: =G63*E63 -> 27720000
B64: Other equipments for Workstation: | G64: 0 | H64: =G64*E64 -> 0
A65: 29 | B65: Computer | C65: HP/DELL… | E65: 5 | F65: pcs | G65: 15000000 | H65: =G65*E65 -> 75000000
A66: 30 | B66: Teacher desk | C66: Asia/VN | E66: 1 | F66: pcs | G66: 3900000 | H66: =G66*E66 -> 3900000
A67: 31 | B67: Teacher chair | C67: Asia/VN | E67: 1 | F67: pcs | G67: 500000 | H67: =G67*E67 -> 500000
A68: 32 | B68: Student table | C68: Asia/VN | E68: 10 | F68: pcs | G68: 3400000 | H68: =G68*E68 -> 34000000
A69: 33 | B69: Student chair | C69: Asia/VN | E69: 20 | F69: pcs | G69: 400000 | H69: =G69*E69 -> 8000000
A70: 34 | B70: Blackboard | C70: Asia/VN | E70: 1 | F70: pcs | G70: 4000000 | H70: =G70*E70 -> 4000000
A71: 35 | B71: Projector | C71: Asia/VN | E71: 1 | F71: pcs | G71: 35000000 | H71: =G71*E71 -> 35000000
A72: 36 | B72: Screen | C72: Asia/VN | E72: 1 | F72: pcs | G72: 2600000 | H72: =G72*E72 -> 2600000
A73: 37 | B73: Storage cabinet | C73: Asia/VN | E73: 2 | F73: pcs | G73: 5200000 | H73: =G73*E73 -> 10400000
A74: 38 | B74: Máy lạnh 2 HP | C74: Asia/VN | E74: 2 | F74: pcs | G74: 20000000 | H74: =G74*E74 -> 40000000
B75: GIÁ TRỊ HÀNG HÓA | H75: =SUM(H5:H74) -> 5040120000
B76: V.A.T 0% (Mục 28)
B77: V.A.T 5% (Mục 1-27) | H77: =(H75-H62-H63-H65-H66-H67-H68-H69-H70-H71-H72-H73-H74)*0.05 -> 231014000
B78: V.A.T 10% (Mục 29-38) | H78: =(H63+H65+H66+H67+H68+H69+H70+H71+H72+H73+H74)*0.1 -> 24112000
B79: TỔNG CỘNG | H79: =H75+H77+H78 -> 5295246000

Sheet PTN TĐH
B1: THIẾT BỊ THỰC HÀNH PHÒNG THỰC HÀNH TỰ ĐỘNG HÓA
G2: Date 04/2/2018
A3: STT | B3: Thiết bị & Đặc tính kỹ thuật | C3: Xuất xứ | D3: Mã số | E3: S'lg | F3: Đvt | G3: Đơn giá (Chưa bao gồm VAT) (ĐVN) | H3: Thành tiền (Chưa bao gồm VAT) (ĐVN)
A4: A | B4: BỘ THÍ NGHIỆM THỰC HÀNH CÔNG NGHỆ CẢM BIẾN
A5: 1 | B5: Aluminum profile plate | C5: Festo Didactic | D5: 159411 | E5: 4 | F5: pcs | G5: 30550000 | H5: =G5*E5 -> 122200000
A6: 2 | B6: Learntop-L | C6: Festo Didactic | D6: 540669 | E6: 4 | F6: pcs | G6: 11310000 | H6: =G6*E6 -> 45240000
A7: 3 | B7: Rubber feet | C7: Festo Didactic | D7: 158343 | E7: 4 | F7: pcs | G7: 930000 | H7: =G7*E7 -> 3720000
A8: 4 | B8: Equipment set TP 1311: Sensors for object detection | C8: Festo Didactic | D8: 566918 | E8: 4 | F8: Set | G8: 113120000 | H8: =G8*E8 -> 452480000
A9: 5 | B9: Supplement to the set of measuring objects, TP 1311 | C9: Festo Didactic | D9: 8035617 | E9: 4 | F9: set | G9: 2390000 | H9: =G9*E9 -> 9560000
A10: 6 | B10: Power supply unit for mounting frame | C10: Festo Didactic | D10: 8049382 | E10: 4 | F10: pcs | G10: 22390000 | H10: =G10*E10 -> 89560000
A11: 7 | B11: 4 mm Safety laboratory cables, 106 pieces, red, blue and black | C11: Festo Didactic | D11: 571806 | E11: 4 | F11: Set | G11: 25070000 | H11: =G11*E11 -> 100280000
A12: 8 | B12: Sensors for object detection: Workbook | C12: Festo Didactic | D12: 566920 | E12: 1 | F12: book | G12: 19010000 | H12: =G12*E12 -> 19010000
A13: 9 | B13: Fluke 115 digital multimeter | C13: Festo Didactic | D13: 571830 | E13: 4 | F13: pcs | G13: 11020000 | H13: =G13*E13 -> 44080000
A14: B | B14: THIẾT BỊ THỰC HÀNH TRUYỀN ĐỘNG ĐIỆN | G14: 0
A15: 1 | B15: Equipment set TP 1211: Basic principles of circuits with contacts | C15: Festo Didactic | D15: 571811 | E15: 4 | F15: set | G15: 203510000 | H15: =G15*E15 -> 814040000
A16: 2 | B16: Safety jumper plugs, 42 pieces, red, blue, grey, grey-blue and green-yellow | C16: Festo Didactic | D16: 571808 | E16: 4 | F16: set | G16: 7580000 | H16: =G16*E16 -> 30320000
A17: 3 | B17: Three-phase current asynchronous motor 230/400 V | C17: Festo Didactic | D17: 571874 | E17: 4 | F17: pcs | G17: 35860000 | H17: =G17*E17 -> 143440000
A18: 4 | B18: Sinamics G120 EduTrainer® | C18: Festo Didactic | D18: 8037820 | E18: 2 | F18: pcs | G18: 124200000 | H18: =G18*E18 -> 248400000
A19: 5 | B19: Intelligent Operator Panel (IOP) | C19: Festo Didactic | D19: 8022476 | E19: 2 | F19: pcs | G19: 9970000 | H19: =G19*E19 -> 19940000
A20: 6 | B20: MicroMaster 420 EduTrainer® | C20: Festo Didactic | D20: 8036812 | E20: 2 | F20: pcs | G20: 106710000 | H20: =G20*E20 -> 213420000
A21: 7 | B21: EMC motor cable | C21: Festo Didactic | D21: 8038849 | E21: 4 | F21: pcs | G21: 6180000 | H21: =G21*E21 -> 24720000
A22: 8 | B22: Set of feet and device handle | C22: Festo Didactic | D22: 8036788 | E22: 4 | F22: set | G22: 4840000 | H22: =G22*E22 -> 19360000
A23: 9 | B23: Fundamentals of circuits with contacts: Workbook | C23: Festo Didactic | D23: 567315 | E23: 1 | F23: pcs | G23: 19010000 | H23: =G23*E23 -> 19010000
A24: 10 | B24: Equipment set TP 1421: Servo motor drive technology | C24: Festo Didactic | D24: 571849 | E24: 2 | F24: set | G24: 172020000 | H24: =G24*E24 -> 344040000
A25: 11 | B25: Equipment set TP 1422: Stepper motor drive technology | C25: Festo Didactic | D25: 571850 | E25: 2 | F25: Set | G25: 120700000 | H25: =G25*E25 -> 241400000
A26: 12 | B26: Fundamentals of servo motor drive technology: Workbook | C26: Festo Didactic | D26: 571853 | E26: 1 | F26: pcs | G26: 19010000 | H26: =G26*E26 -> 19010000
... A28: 14 | B28: USB adapter RS232 | C28: Festo Didactic | D28: 540699 | E28: 4 | F28: pcs | G28: 1870000 | H28: =G28*E28 -> 7480000
G29: 0
A30: C | B30: THIẾT BỊ THỰC HÀNH LẬP TRÌNH PLC CĂN BẢN | G30: 0
A31: 1 | B31: 6x EduTrainer® Compact Preferred versions with SIMATIC S7-1200 | C31: Festo Didactic | D31: 573891 | E31: 1 | F31: set | G31: 339370000 | H31: =G31*E31 -> 339370000
A32: 2 | B32: Equipment set TP 301: Basic PLC programming | C32: Festo Didactic | D32: 167101 | E32: 4 | F32: set | G32: 132660000 | H32: =G32*E32 -> 530640000
A33: 3 | B33: Programmable logic controllers basic level: Workbook | C33: Festo Didactic | D33: 93314 | E33: 1 | F33: pcs | G33: 19010000 | H33: =G33*E33 -> 19010000
A34: 4 | B34: Touch Panel TP700 EduTrainer® | C34: Festo Didactic | D34: 8022729 | E34: 4 | F34: pcs | G34: 65890000 | H34: =G34*E34 -> 263560000
A35: 5 | B35: Compressor | C35: Festo Didactic | D35: 91030 | E35: 2 | F35: pcs | G35: 60880000 | H35: =G35*E35 -> 121760000
A36: 6 | B36: Compressor accessories | C36: Festo Didactic | D36: 102725 | E36: 2 | F36: set | G36: 1460000 | H36: =G36*E36 -> 2920000
G37: 0
A38: D | B38: THIẾT BỊ THỰC HÀNH ROBOT DI ĐỘNG | G38: 0
A39: 1 | B39: Robotino® | C39: Festo Didactic | D39: 8029346 | E39: 2 | F39: Set | G39: 371440000 | H39: =G39*E39 -> 742880000
A40: 2 | B40: Logistics Kit | C40: Festo Didactic | D40: 8029450 | E40: 2 | F40: Set | G40: 95160000 | H40: =G40*E40 -> 190320000
A41: 3 | B41: Laser scanner | C41: Festo Didactic | D41: 8029454 | E41: 2 | F41: pcs | G41: 103500000 | H41: =G41*E41 -> 207000000
A42: 4 | B42: Workbook Robotino® | C42: Festo Didactic | D42: 8029495 | E42: 1 | F42: pcs | G42: 19010000 | H42: =G42*E42 -> 19010000
A43: E | B43: Other equipments for Workstation: | G43: 0
A44: 1 | B44: Computer | C44: HP/DELL… | E44: 10 | F44: pcs | G44: 15000000 | H44: =G44*E44 -> 150000000
A45: 2 | B45: Laptop | C45: Asia/VN | E45: 2 | F45: pcs | G45: 46000000 | H45: =G45*E45 -> 92000000
A46: 3 | B46: Teacher desk | C46: Asia/VN | E46: 1 | F46: pcs | G46: 3900000 | H46: =G46*E46 -> 3900000
A47: 4 | B47: Teacher chair | C47: Asia/VN | E47: 1 | F47: pcs | G47: 500000 | H47: =G47*E47 -> 500000
A48: 5 | B48: Student table | C48: Asia/VN | E48: 10 | F48: pcs | G48: 3400000 | H48: =G48*E48 -> 34000000
A49: 6 | B49: Student chair | C49: Asia/VN | E49: 20 | F49: pcs | G49: 400000 | H49: =G49*E49 -> 8000000
A50: 7 | B50: Blackboard | C50: Asia/VN | E50: 1 | F50: pcs | G50: 4000000 | H50: =G50*E50 -> 4000000
A51: 8 | B51: Projector | C51: Asia/VN | E51: 1 | F51: pcs | G51: 35000000 | H51: =G51*E51 -> 35000000
A52: 9 | B52: Screen | C52: Asia/VN | E52: 1 | F52: pcs | G52: 2600000 | H52: =G52*E52 -> 2600000
A53: 10 | B53: Storage cabinet | C53: Asia/VN | E53: 2 | F53: pcs | G53: 5200000 | H53: =G53*E53 -> 10400000
A54: 11 | B54: Máy lạnh 2 HP | C54: Asia/VN | E54: 2 | F54: pcs | G54: 20000000 | H54: =G54*E54 -> 40000000
B55: GIÁ TRỊ HÀNG HÓA | H55: =SUM(H4:H54) -> 5866590000
B56: V.A.T 0%
B57: V.A.T 5% (Phần A-D) | H57: =(H55-H44-H45-H46-H47-H48-H49-H50-H51-H52-H53-H54)*0.05 -> 274309500
B58: V.A.T 10% (Phần E-Mục 1-11) | H58: =(H44+H45+H46+H47+H47+H48+H49+H50+H51+H52+H53+H54)*0.1 -> 38090000
B59: TỔNG CỘNG | H59: =H55+H57+H58 -> 6178989500

Sheet MPS PA
B1: PHÒNG THỰC HÀNH HỆ THỐNG ĐIỀU KHIỂN QUÁ TRÌNH
G2: Date 04/2/2018
A3: STT | B3: Thiết bị & Đặc tính kỹ thuật | C3: Xuất xứ | D3: Mã số | E3: S'lg | F3: Đvt | G3: Đơn giá (Chưa bao gồm VAT) (ĐVN) | H3: Thành tiền (Chưa bao gồm VAT) (ĐVN)
A4: 1 | B4: Filtration Station | C4: Festo | D4: 544253 | E4: 1 | F4: pcs | G4: 863190000 | H4: =G4*E4 -> 863190000
A5: 2 | B5: Mixing station | C5: Festo | D5: 544254 | E5: 1 | F5: pcs | G5: 736870000 | H5: =G5*E5 -> 736870000
A6: 3 | B6: Reactor station | C6: Festo | D6: 544255 | E6: 1 | F6: pcs | G6: 586490000 | H6: =G6*E6 -> 586490000
A7: 4 | B7: Bottling station | C7: Festo | D7: 544256 | E7: 1 | F7: pcs | G7: 742580000 | H7: =G7*E7 -> 742580000
A8: 5 | B8: EduTrainer® Universal MPS®/MPS® PA: A4 rack with SIMATIC S7-1500 | C8: Festo | D8: 8034574 | E8: 4 | F8: pcs | G8: 198500000 | H8: =G8*E8 -> 794000000
A9: 6 | B9: SIMATIC S7 Connecting cable set | C9: Festo | D9: 544296 | E9: 4 | F9: set | G9: 12330000 | H9: =G9*E9 -> 49320000
A10: 7 | B10: PLC programming cable (cable and PC/MPI adapter) | C10: Festo | D10: 539006 | E10: 4 | F10: pcs | G10: 21110000 | H10: =G10*E10 -> 84440000
A11: 8 | B11: Simulation box, digital/analogue | C11: Festo | D11: 526863 | E11: 2 | F11: pcs | G11: 31040000 | H11: =G11*E11 -> 62080000
A12: 9 | B12: I/O data cable with SysLink connectors (IEEE 488) at both ends | C12: Festo | D12: 34031 | E12: 8 | F12: pcs | G12: 4390000 | H12: =G12*E12 -> 35120000
A13: 10 | B13: Analogue cable parallel | C13: Festo | D13: 529141 | E13: 2 | F13: pcs | G13: 2950000 | H13: =G13*E13 -> 5900000
A14: 11 | B14: Analogue cable crossed over | C14: Festo | D14: 533039 | E14: 2 | F14: pcs | G14: 2230000 | H14: =G14*E14 -> 4460000
A15: 12 | B15: Syslink cable crossed over | C15: Festo | D15: 167106 | E15: 2 | F15: pcs | G15: 4390000 | H15: =G15*E15 -> 8780000
... A22: 21 | B22: FluidLab-Process Automaton software | C22: Festo | D22: 544304 | E22: 2 | F22: pcs | G22: 24000000 | H22: =G22*E22 -> 48000000
B23: Other equipments for Workstation:
A24: 22 | B24: Computer | C24: HP/DELL… | E24: 5 | F24: pcs | G24: 15000000 | H24: =G24*E24 -> 75000000
A25: 23 | B25: Teacher desk | C25: Asia/VN | E25: 1 | F25: pcs | G25: 3900000 | H25: =G25*E25 -> 3900000
A26: 24 | B26: Teacher chair | C26: Asia/VN | E26: 1 | F26: pcs | G26: 500000 | H26: =G26*E26 -> 500000
A27: 25 | B27: Student table | C27: Asia/VN | E27: 10 | F27: pcs | G27: 3400000 | H27: =G27*E27 -> 34000000
A28: 26 | B28: Student chair | C28: Asia/VN | E28: 20 | F28: pcs | G28: 400000 | H28: =G28*E28 -> 8000000
A29: 27 | B29: Blackboard | C29: Asia/VN | E29: 1 | F29: pcs | G29: 4000000 | H29: =G29*E29 -> 4000000
A30: 28 | B30: Projector | C30: Asia/VN | E30: 1 | F30: pcs | G30: 35000000 | H30: =G30*E30 -> 35000000
A31: 29 | B31: Screen | C31: Asia/VN | E31: 1 | F31: pcs | G31: 2600000 | H31: =G31*E31 -> 2600000
A32: 30 | B32: Storage cabinet | C32: Asia/VN | E32: 2 | F32: pcs | G32: 5200000 | H32: =G32*E32 -> 10400000
A33: 32 | B33: Máy lạnh 2 HP | C33: Asia/VN | E33: 2 | F33: pcs | G33: 20000000 | H33: =G33*E33 -> 40000000
B34: GIÁ TRỊ HÀNG HÓA | H34: =SUM(H4:H32) -> 4376140000
B35: V.A.T 0% (Mục 20-21)
B36: V.A.T 5% (Mục 1-19) | H36: =(H34-H21-H22-H24-H25-H26-H27-H28-H29-H30-H31-H32-H33)*0.05 -> 201440500
B37: V.A.T 10% (Mục 22-32) | H37: =(H24+H25+H26+H27+H28+H29+H30+H31+H32+H33)*0.1 -> 21340000
B38: TỔNG CỘNG | H38: =H34+H36+H37 -> 4598920500

Sheet MPS I4.0 
B1: HỆ THỐNG THỰC HÀNH MPS 4.0 - Công nghệ 4.0
G2: Date 04/2/2018
A3: STT | B3: Thiết bị & Đặc tính kỹ thuật | C3: Xuất xứ | D3: Mã số | E3: S'lg | F3: Đvt | G3: Đơn giá (Chưa bao gồm VAT) (ĐVN) | H3: Thành tiền (Chưa bao gồm VAT) (ĐVN)
A4: 1 | B4: Hệ Thống MPS 4.0 - Công nghệ 4.0 | G4: 0 | H4: =G4*E4 -> 0
B5: MPS® system 203 I4.0 PLC control package includes: SIMATIC® S7-1500 3x EduTrainer® Universal with SIMATIC® S7-1512 including power supply unit The MPS 203 I4.0 system includes the following products: Stations Distributing/Conveyor, joining, sorting Accessories 3x height-adjustable trolleys, 3x control console, 1x workpiece set PA (body with end cap), 1x simulation box, 1x signaling column Control technology 1x PLC control package, 1x EasyPort, RFID system, switch, touch PC with MES system Software FluidSim E 1L, FluidSim P 1L | C5: Festo | D5: 8064835 | E5: 1 | F5: system | G5: 3207110000 | H5: =G5*E5 -> 3207110000
B6: Other equipments for Workstation: | G6: 0
A7: 2 | B7: Computer | D7: Asia/VN | E7: 3 | F7: pcs | G7: 15000000 | H7: =G7*E7 -> 45000000
A8: 3 | B8: Laptop | D8: Asia/VN | E8: 1 | F8: pcs | G8: 46000000 | H8: =G8*E8 -> 46000000
B9: GIÁ TRỊ HÀNG HÓA | H9: =SUM(H4:H5) -> 3207110000
B10: V.A.T 5% | H10: =(H9-H7-H8)*0.05 -> 155805500
B11: V.A.T 10% (Mục 2-3) | H11: =(H7+H8)*0.1 -> 9100000
B12: TỔNG CỘNG | H12: =H9+H10+H11 -> 3372015500

Sheet MPS 210 Full(12 stations) 
B1: PHÒNG THỰC HÀNH HỆ THỐNG MPS 210
G2: Date 04/2/2018
A3: STT | B3: Thiết bị & Đặc tính kỹ thuật | C3: Xuất xứ | D3: Mã số | E3: S'lg | F3: Đvt | G3: Đơn giá (Chưa bao gồm VAT) (ĐVN) | H3: Thành tiền (Chưa bao gồm VAT) (ĐVN)
A4: 1 | B4: Distributing station | C4: Festo | D4: 195780 | E4: 1 | F4: set | G4: 151580000 | H4: =G4*E4 -> 151580000
A5: 2 | B5: Testing station | C5: Festo | D5: 195781 | E5: 1 | F5: set | G5: 251440000 | H5: =G5*E5 -> 251440000
A6: 3 | B6: Processing station | C6: Festo | D6: 195782 | E6: 1 | F6: set | G6: 317600000 | H6: =G6*E6 -> 317600000
A7: 4 | B7: Handling station, electrical | C7: Festo | D7: 567203 | E7: 1 | F7: set | G7: 306780000 | H7: =G7*E7 -> 306780000
A8: 5 | B8: Pick&Place station | C8: Festo | D8: 8034567 | E8: 1 | F8: set | G8: 258660000 | H8: =G8*E8 -> 258660000
A9: 6 | B9: Fluidic Muscle Press station | C9: Festo | D9: 535248 | E9: 1 | F9: set | G9: 354900000 | H9: =G9*E9 -> 354900000
A10: 7 | B10: Separating station | C10: Festo | D10: 540719 | E10: 1 | F10: set | G10: 279710000 | H10: =G10*E10 -> 279710000
A11: 8 | B11: Storing station | C11: Festo | D11: 541113 | E11: 1 | F11: set | G11: 499260000 | H11: =G11*E11 -> 499260000
A12: 9 | B12: Sorting station | C12: Festo | D12: 195786 | E12: 1 | F12: set | G12: 243620000 | H12: =G12*E12 -> 243620000
A13: 10 | B13: MPS® Robot Assembly Station: | C13: Festo | D13: 8039313 | E13: 1 | F13: pc | G13: 3185670000 | H13: =G13*E13 -> 3185670000
A14: 10.1 | B14: MPS® Robot Station Basic Equipment | C14: Festo | E14: 1 | F14: pc | G14: 0
A15: 10.2 | B15: MPS® Process Module Robot Handling | C15: Festo | E15: 1 | F15: pc | G15: 0
A16: 10.3 | B16: MPS® Process Module Robot Assembly | C16: Festo | E16: 1 | F16: pc | G16: 0
A17: 10.4 | B17: MPS Trolley with profile plate | C17: Festo | E17: 1 | F17: pc | G17: 0
A18: 10.5 | B18: Robot interface box | C18: Festo | E18: 1 | F18: pc | G18: 0
A19: 10.6 | B19: User Panel with emergency stop | C19: Festo | E19: 1 | F19: pc | G19: 0
A20: 10.7 | B20: Robotics software: CIROS Studio 6.0 and 6 x CIROS Education | C20: Festo | E20: 1 | F20: pc | G20: 0
A21: 10.8 | B21: Mechatronics Assistant | C21: Festo | E21: 1 | F21: pc | G21: 0
A22: 10.9 | B22: Power supply unit 24V DC | C22: Festo | E22: 1 | F22: pc | G22: 0
A23: 11 | B23: MPS Punching Station | C23: Festo | E23: 1 | F23: set | G23: 0
A24: 11.1 | B24: Punching Station | C24: Festo | D24: 195787 | E24: 1 | F24: pcs | G24: 408430000 | H24: =G24*E24 -> 408430000
A25: 11.2 | B25: Hydraulic power pack | C25: Festo | D25: 152962 | E25: 1 | F25: pcs | G25: 121030000 | H25: =G25*E25 -> 121030000
A26: 11.3 | B26: Hose lines with quick release couplings 1,500mm | C26: Festo | D26: 159386 | E26: 2 | F26: pcs | G26: 7220000 | H26: =G26*E26 -> 14440000
A27: 11.4 | B27: Hydraulic oil 10 Liters | D27: 192215 | E27: 1 | F27: pcs | G27: 4600000 | H27: =G27*E27 -> 4600000
A28: 11.5 | B28: One-piece aluminium profile plate | C28: Festo | D28: 162386 | E28: 1 | F28: pcs | G28: 14620000 | H28: =G28*E28 -> 14620000
A29: 12 | B29: MPS® trolley, 700 x 350 | C29: Festo | D29: 8033248 | E29: 11 | F29: pcs | G29: 30380000 | H29: =G29*E29 -> 334180000
A30: 13 | B30: Control console | C30: Festo | D30: 195764 | E30: 10 | F30: pcs | G30: 36870000 | H30: =G30*E30 -> 368700000
A31: 14 | B31: EduTrainer® Universal Preferred versions MPS®/MPS® PA: A4 rack with SIMATIC S7-300 CPU 315F-2PN/DP | C31: Festo | D31: 567104 | E31: 10 | F31: pcs | G31: 199710000 | H31: =G31*E31 -> 1997100000
A32: 15 | B32: PC adapter | C32: Festo | D32: 539006 | E32: 5 | F32: pcs | G32: 21110000 | H32: =G32*E32 -> 105550000
A33: 17 | B33: IEC power cable 90° | C33: Festo | D33: 549860 | E33: 10 | F33: pcs | G33: 720000 | H33: =G33*E33 -> 7200000
A34: 18 | B34: I/O data cable with SysLink connectors (IEEE 488) | C34: Festo | D34: 34031 | E34: 24 | F34: pcs | G34: 4390000 | H34: =G34*E34 -> 105360000
A35: 19 | B35: Simulation box, digital | C35: Festo | D35: 170643 | E35: 2 | F35: pcs | G35: 24480000 | H35: =G35*E35 -> 48960000
A36: 20 | B36: Bộ màn hình điều khiển cảm ứng TP700 | C36: Siemens/Festo | E36: 1 | F36: pc | G36: 116580000 | H36: =G36*E36 -> 116580000
A37: 22 | B37: Workpiece insert “Thermometer” | C37: Festo | D37: 534622 | E37: 12 | F37: pcs | G37: 1260000 | H37: =G37*E37 -> 15120000
A38: 23 | B38: Workpiece set “Housings” | C38: Festo | D38: 534619 | E38: 1 | F38: set | G38: 4930000 | H38: =G38*E38 -> 4930000
A39: 24 | B39: Workpiece set “Cylinder bodies” | C39: Festo | D39: 167021 | E39: 1 | F39: set | G39: 4330000 | H39: =G39*E39 -> 4330000
A40: 25 | B40: Workpiece set “Reject bodies” | C40: Festo | D40: 534368 | E40: 1 | F40: set | G40: 8000000 | H40: =G40*E40 -> 8000000
A41: 26 | B41: Workpiece set “Reject housings” | C41: Festo | D41: 534620 | E41: 1 | F41: set | G41: 6080000 | H41: =G41*E41 -> 6080000
A42: 27 | B42: Workpiece set “For cylinder assembly” | C42: Festo | D42: 162239 | E42: 1 | F42: set | G42: 15340000 | H42: =G42*E42 -> 15340000
A43: 28 | B43: Tool set | C43: Festo | D43: 539767 | E43: 4 | F43: set | G43: 14440000 | H43: =G43*E43 -> 57760000
A44: 29 | B44: Compressor | C44: Festo | D44: 91030 | E44: 1 | F44: pcs | G44: 62800000 | H44: =G44*E44 -> 62800000
A45: 30 | B45: Compressor accessories | C45: Festo | D45: 102725 | E45: 1 | F45: set | G45: 1500000 | H45: =G45*E45 -> 1500000
A46: 31 | B46: STEP 7 Trainer Package for 6 users | C46: Festo | D46: 8066478 | E46: 2 | F46: pack | G46: 81860000 | H46: =G46*E46 -> 163720000
A47: 32 | B47: Mechatronics Assistant version 2 | C47: Festo | D47: 563358 | E47: 1 | F47: lisence | G47: 12030000 | H47: =G47*E47 -> 12030000
A48: 33 | B48: Module and Accesories for MPS system | G48: 0
A49: 33.1 | B49: PA workpiece set | C49: Festo | D49: 554301 | E49: 1 | F49: set | G49: 2770000 | H49: =G49*E49 -> 2770000
A50: 33.2 | B50: Mini I/O terminal | C50: Festo | D50: 8025739 | E50: 2 | F50: unit | G50: 2700000 | H50: =G50*E50 -> 5400000
A51: 33.3 | B51: Dreh Hub Module (Rotary/lifting module) | C51: Festo | D51: 8035936 | E51: 1 | F51: set | G51: 50620000 | H51: =G51*E51 -> 50620000
A52: 33.4 | B52: 15-pin Sub-D HD cables (connector – open) | C52: Festo | D52: 8033586 | E52: 2 | F52: unit | G52: 840000 | H52: =G52*E52 -> 1680000
A53: 33.5 | B53: 15-pin Sub-D HD cables (connector – connector) | C53: Festo | D53: 8033583 | E53: 1 | F53: unit | G53: 1310000 | H53: =G53*E53 -> 1310000
A54: 33.6 | B54: Analogue terminal | C54: Festo | D54: 526213 | E54: 1 | F54: unit | G54: 2360000 | H54: =G54*E54 -> 2360000
A55: 33.7 | B55: Analogue cable, parallel | C55: Festo | D55: 529141 | E55: 2 | F55: unit | G55: 1520000 | H55: =G55*E55 -> 3040000
A56: 33.8 | B56: Position transmitter, 0-50 mm, analogue | C56: Festo | D56: 560124 | E56: 1 | F56: unit | G56: 6460000 | H56: =G56*E56 -> 6460000
A57: 33.9 | B57: Light tower module | C57: Festo | D57: 549843 | E57: 1 | F57: unit | G57: 8990000 | H57: =G57*E57 -> 8990000
A58: 33.1 | B58: Digital I/O terminal (SysLink) | C58: Festo | D58: 8025736 | E58: 2 | F58: unit | G58: 2700000 | H58: =G58*E58 -> 5400000
A59: 33.11 | B59: Trainer package SIMATIC Comfort Panel TP700 | C59: Festo | D59: 8024273 | E59: 1 | F59: set | G59: 23520000 | H59: =G59*E59 -> 23520000
A60: 33.12 | B60: MPS A4 assembly board | C60: Festo | D60: 8035612 | E60: 1 | F60: unit | G60: 3710000 | H60: =G60*E60 -> 3710000
... A69: 33.21 | B69: Plug socket with cable | C69: Festo | D69: 177673 | E69: 1 | F69: unit | G69: 2260000 | H69: =G69*E69 -> 2260000
B70: Other equipments for Workstation: | G70: 0
A71: 34 | B71: Computer | C71: HP/DELL… | E71: 12 | F71: pcs | G71: 15000000 | H71: =G71*E71 -> 180000000
A72: 35 | B72: Teacher desk | C72: Asia/VN | E72: 1 | F72: pcs | G72: 3900000 | H72: =G72*E72 -> 3900000
A73: 36 | B73: Teacher chair | C73: Asia/VN | E73: 1 | F73: pcs | G73: 500000 | H73: =G73*E73 -> 500000
A74: 37 | B74: Student table | C74: Asia/VN | E74: 12 | F74: pcs | G74: 3400000 | H74: =G74*E74 -> 40800000
A75: 38 | B75: Student chair | C75: Asia/VN | E75: 24 | F75: pcs | G75: 400000 | H75: =G75*E75 -> 9600000
A76: 39 | B76: Blackboard | C76: Asia/VN | E76: 1 | F76: pcs | G76: 4000000 | H76: =G76*E76 -> 4000000
A77: 40 | B77: Projector | C77: Asia/VN | E77: 1 | F77: pcs | G77: 35000000 | H77: =G77*E77 -> 35000000
A78: 41 | B78: Screen | C78: Asia/VN | E78: 1 | F78: pcs | G78: 2600000 | H78: =G78*E78 -> 2600000
A79: 42 | B79: Storage cabinet | C79: Asia/VN | E79: 2 | F79: pcs | G79: 5200000 | H79: =G79*E79 -> 10400000
A80: 43 | B80: Máy lạnh 2 HP | C80: Asia/VN | E80: 2 | F80: pcs | G80: 0 | H80: =G80*E80 -> 0
B81: GIÁ TRỊ HÀNG HÓA | H81: =SUBTOTAL(9,H4:H79) -> 10289500000
B82: V.A.T 0% (Mục 31-32)
B83: V.A.T 5% (Mục 1-30 và 33) | H83: =(H81-H27-H46-H47-H71-H72-H73-H74-H75-H76-H77-H78-H79-H80)*0.05 -> 491117500
B84: V.A.T 10% (Mục 34-43) | H84: =(H27+H71+H72+H73+H74+H75+H76+H77+H78+H79+H80)*0.1 -> 29140000
B85: TỔNG CỘNG | H85: =H81+H83+H84 -> 10809757500

Sheet MPS-500 -FMS 
B1: PHÒNG THỰC HÀNH HỆ THỐNG MPS 500 - FMS
G2: Date 04/2/2018
A3: STT | B3: Thiết bị & Đặc tính kỹ thuật | C3: Xuất xứ | D3: Mã số | E3: S'lg | F3: Đvt | G3: Đơn giá (Chưa bao gồm VAT) (ĐVN) | H3: Thành tiền (Chưa bao gồm VAT) (ĐVN)
A4: . | B4: MPS® 516-FMS – the complete package for demanding training scenarios
A5: . | B5: The system comprises 6 Zone:
A6: . | B6: Incoming goods Zone:
A7: 1 | B7: Distributing station Complete: | E7: 1 | F7: set
A8: 1.01 | B8: Distributing station | C8: Festo Didactic | D8: 195780 | E8: 1 | F8: pcs | G8: 151580000 | H8: =G8*E8 -> 151580000
A9: 1.02 | B9: MPS® trolley, 700 x 350 | C9: Festo Didactic | D9: 8033248 | E9: 1 | F9: pcs | G9: 30380000 | H9: =G9*E9 -> 30380000
A10: 1.03 | B10: Control console | C10: Festo Didactic | D10: 195764 | E10: 1 | F10: pcs | G10: 36870000 | H10: =G10*E10 -> 36870000
A11: 2 | B11: Testing station, Complete: | E11: 1 | F11: set | G11: 0 | H11: =G11*E11 -> 0
A12: 2.01 | B12: Testing station | C12: Festo Didactic | D12: 195781 | E12: 1 | F12: pcs | G12: 251440000 | H12: =G12*E12 -> 251440000
A13: 2.02 | B13: MPS® trolley, 700 x 350 | C13: Festo Didactic | D13: 8033248 | E13: 1 | F13: pcs | G13: 30380000 | H13: =G13*E13 -> 30380000
A14: 2.03 | B14: Control console | C14: Festo Didactic | D14: 195764 | E14: 1 | F14: pcs | G14: 36870000 | H14: =G14*E14 -> 36870000
A15: . | B15: Processing Zone: | G15: 0 | H15: =G15*E15 -> 0
A16: 3 | B16: Processing station, complete: | C16: Festo Didactic | E16: 1 | F16: set | G16: 0 | H16: =G16*E16 -> 0
A17: 3.01 | B17: Processing station | C17: Festo Didactic | D17: 195782 | E17: 1 | F17: pcs | G17: 317600000 | H17: =G17*E17 -> 317600000
A18: 3.02 | B18: MPS® trolley, 700 x 350 | C18: Festo Didactic | D18: 8033248 | E18: 1 | F18: pcs | G18: 30380000 | H18: =G18*E18 -> 30380000
A19: 3.03 | B19: Control console | C19: Festo Didactic | D19: 195764 | E19: 1 | F19: pcs | G19: 36870000 | H19: =G19*E19 -> 36870000
A20: 4 | B20: Handling station, electrical , complete | E20: 1 | F20: set | G20: 0 | H20: =G20*E20 -> 0
A21: 4.01 | B21: Handling station, electrical | C21: Festo Didactic | D21: 567203 | E21: 1 | F21: pcs | G21: 306780000 | H21: =G21*E21 -> 306780000
A22: 4.02 | B22: MPS® trolley, 700 x 350 | C22: Festo Didactic | D22: 8033248 | E22: 1 | F22: pcs | G22: 30380000 | H22: =G22*E22 -> 30380000
A23: 4.03 | B23: Control console | C23: Festo Didactic | D23: 195764 | E23: 1 | F23: pcs | G23: 36870000 | H23: =G23*E23 -> 36870000
A24: . | B24: Assembly zone: | G24: 0 | H24: =G24*E24 -> 0
A25: 5 | B25: MPS® Robot Assembly Station: | C25: Festo Didactic | D25: 8039313 | E25: 1 | F25: pc | G25: 3185670000 | H25: =G25*E25 -> 3185670000
A26: 5.01 | B26: MPS® Robot Station Basic Equipment | C26: Festo Didactic | E26: 1 | F26: pc | G26: 0
A27: 5.02 | B27: MPS® Process Module Robot Handling | C27: Festo Didactic | E27: 1 | F27: pc | G27: 0
A28: 5.03 | B28: MPS® Process Module Robot Assembly | C28: Festo Didactic | E28: 1 | F28: pc | G28: 0
A29: 5.04 | B29: MPS Trolley with profile plate | C29: Festo Didactic | E29: 1 | F29: pc | G29: 0
A30: 5.05 | B30: Robot interface box | C30: Festo Didactic | E30: 1 | F30: pc | G30: 0
A31: 5.06 | B31: User Panel with emergency stop | C31: Festo Didactic | E31: 1 | F31: pc | G31: 0
A32: 5.07 | B32: Robotics software: CIROS Studio 6.0 and 6 x CIROS Education | C32: Festo Didactic | E32: 1 | F32: pc | G32: 0
A33: 5.08 | B33: Mechatronics Assistant | C33: Festo Didactic | E33: 1 | F33: pc | G33: 0
A34: 5.09 | B34: Power supply unit 24V DC | C34: Festo Didactic | E34: 1 | F34: pc | G34: 0
A35: . | B35: Warehouse Zone | G35: 0
A36: 6 | B36: Storing station: "In and Out", Complete: | E36: 1 | G36: 0 | H36: =G36*E36 -> 0
A37: 6.01 | B37: Storing station: "In and Out" | C37: Festo Didactic | D37: 8049013 | E37: 1 | G37: 535360000 | H37: =G37*E37 -> 535360000
A38: 6.02 | B38: MPS® trolley, 700 x 350 | C38: Festo Didactic | D38: 8033248 | E38: 1 | G38: 30380000 | H38: =G38*E38 -> 30380000
A39: 6.03 | B39: Control console | C39: Festo Didactic | D39: 195764 | E39: 1 | G39: 36870000 | H39: =G39*E39 -> 36870000
A40: . | B40: Outgoing goods zone: | G40: 0 | H40: =G40*E40 -> 0
A41: 7 | B41: Handling station, electrical, Complete: | G41: 0 | H41: =G41*E41 -> 0
A42: 7.01 | B42: Handling station, electrical | C42: Festo Didactic | D42: 567203 | E42: 1 | G42: 306780000 | H42: =G42*E42 -> 306780000
A43: 7.02 | B43: MPS® trolley, 700 x 350 | C43: Festo Didactic | D43: 8033248 | E43: 1 | G43: 30380000 | H43: =G43*E43 -> 30380000
A44: 7.03 | B44: Control console | C44: Festo Didactic | D44: 195764 | E44: 1 | G44: 36870000 | H44: =G44*E44 -> 36870000
A45: 8 | B45: Sorting station, Complete: | G45: 0 | H45: =G45*E45 -> 0
A46: 8.01 | B46: Sorting station | C46: Festo Didactic | D46: 195786 | E46: 1 | G46: 243620000 | H46: =G46*E46 -> 243620000
A47: 8.02 | B47: MPS® trolley, 700 x 350 | C47: Festo Didactic | D47: 8033248 | E47: 1 | G47: 30380000 | H47: =G47*E47 -> 30380000
A48: 8.03 | B48: Control console | C48: Festo Didactic | D48: 195764 | E48: 1 | G48: 36870000 | H48: =G48*E48 -> 36870000
A49: . | B49: Transport Zone: | G49: 0 | H49: =G49*E49 -> 0
A50: 9 | B50: Pallet transport system (Conveyor System FMS) | C50: Festo Didactic | D50: FMF-F | E50: 1 | G50: 1684270000 | H50: =G50*E50 -> 1684270000
A51: . | B51: Optional Zone: | G51: 0 | H51: =G51*E51 -> 0
A52: 10 | B52: The Camera Vision system (V1) | C52: Festo Didactic | D52: V1 | E52: 1 | G52: 902290000 | H52: =G52*E52 -> 902290000
A53: 11 | B53: EduTrainer® Universal Preferred versions MPS®/MPS® PA: A4 rack with SIMATIC S7-300 CPU 315F-2PN/DP | C53: Festo Didactic | D53: 567104 | E53: 6 | G53: 199710000 | H53: =G53*E53 -> 1198260000
A54: 12 | B54: I/O data cable with SysLink connectors (IEEE 488) | C54: Festo Didactic | D54: 34031 | E54: 12 | G54: 4390000 | H54: =G54*E54 -> 52680000
A55: 13 | B55: SCADA and communication network. Level 2 | C55: Festo Didactic | D55: C25001 | E55: 1 | G55: 525900000 | H55: =G55*E55 -> 525900000
A56: 14 | B56: Compressor | C56: Festo Didactic | D56: 91030 | E56: 1 | G56: 62800000 | H56: =G56*E56 -> 62800000
A57: 15 | B57: Compressor accessories | C57: Festo Didactic | D57: 102725 | E57: 1 | G57: 1500000 | H57: =G57*E57 -> 1500000
A58: 16 | B58: Tool set | C58: Festo Didactic | D58: 539767 | E58: 4 | G58: 14440000 | H58: =G58*E58 -> 57760000
A59: 17 | B59: Workpiece set “For cylinder assembly” | C59: Festo Didactic | D59: 162239 | E59: 1 | G59: 15340000 | H59: =G59*E59 -> 15340000
A60: 18 | B60: STEP 7 Trainer Package for 6 users | C60: Festo Didactic / Siemens | D60: 8066478 | E60: 2 | G60: 85930000 | H60: =G60*E60 -> 171860000
B61: Other equipments for Workstation:
A62: 19 | B62: Computer | C62: HP/DELL… | E62: 5 | F62: pcs | G62: 15000000 | H62: =G62*E62 -> 75000000
A63: 20 | B63: Teacher desk | C63: Asia/VN | E63: 1 | F63: pcs | G63: 3900000 | H63: =G63*E63 -> 3900000
A64: 21 | B64: Teacher chair | C64: Asia/VN | E64: 1 | F64: pcs | G64: 500000 | H64: =G64*E64 -> 500000
A65: 22 | B65: Student table | C65: Asia/VN | E65: 10 | F65: pcs | G65: 3400000 | H65: =G65*E65 -> 34000000
A66: 23 | B66: Student chair | C66: Asia/VN | E66: 20 | F66: pcs | G66: 400000 | H66: =G66*E66 -> 8000000
A67: 24 | B67: Blackboard | C67: Asia/VN | E67: 1 | F67: pcs | G67: 4000000 | H67: =G67*E67 -> 4000000
A68: 25 | B68: Projector | C68: Asia/VN | E68: 1 | F68: pcs | G68: 35000000 | H68: =G68*E68 -> 35000000
A69: 26 | B69: Screen | C69: Asia/VN | E69: 1 | F69: pcs | G69: 2600000 | H69: =G69*E69 -> 2600000
A70: 27 | B70: Storage cabinet | C70: Asia/VN | E70: 2 | F70: pcs | G70: 5200000 | H70: =G70*E70 -> 10400000
A71: 28 | B71: Máy lạnh 2 HP | C71: Asia/VN | E71: 2 | F71: pcs | G71: 20000000 | H71: =G71*E71 -> 40000000
B72: GIÁ TRỊ HÀNG HÓA | H72: =SUBTOTAL(9,H8:H70) -> 10615640000
B73: V.A.T 0% (Mục 18)
B74: V.A.T 5% (Mục 1-17) | H74: =(H72-H60-H62-H63-H64-H65-H66-H67-H68-H69-H70-H71)*0.05 -> 511519000
B75: V.A.T 10% (Mục 19-28) | H75: =(H62+H63+H64+H65+H66+H67+H68+H69+H70+H71)*0.1 -> 21340000
B76: TỔNG CỘNG | H76: =H72+H74+H75 -> 11148499000

Sheet Training
B1: DỊCH VỤ VÀ ĐÀO TẠO | G1: Date 04/2/2018
A2: STT | B2: Thiết bị & Đặc tính kỹ thuật | C2: Xuất xứ | D2: Mã số | E2: S'lg | F2: Đvt | G2: Đơn giá (Chưa bao gồm VAT) (ĐVN) | H2: Thành tiền (Chưa bao gồm VAT) (ĐVN)
A3: 1 | B3: DỊCH VỤ LẮP ĐẶT VÀ HƯỚNG DẪN SỬ DỤNG | D3: Ngày
A4: 1.1 | B4: PHÒNG THỰC HÀNH KHÍ NÉN | D4: Ngày | F4: 2 | G4: 12000000 | H4: =G4*F4 -> 24000000
A5: 1.2 | B5: PHÒNG THỰC HÀNH THỦY LỰC | D5: Ngày | F5: 2 | G5: 12000000 | H5: =G5*F5 -> 24000000
A6: 1.3 | B6: PHÒNG THỰC HÀNH TỰ ĐỘNG HÓA
A7: 1.4 | B7: PHÒNG THỰC HÀNH MPS-PA | D7: Ngày | F7: 3 | G7: 12000000 | H7: =G7*F7 -> 36000000
A8: 1.5 | B8: HỆ THỐNG THỰC HÀNH MPS 4.0 - Công nghệ 4.0 | D8: Ngày | F8: 2 | G8: 12000000 | H8: =G8*F8 -> 24000000
A9: 1.6 | B9: PHÒNG THỰC HÀNH MPS | D9: Ngày | F9: 3 | G9: 12000000 | H9: =G9*F9 -> 36000000
A10: 1.7 | B10: PHÒNG THỰC HÀNH FMS | D10: Ngày | F10: 3 | G10: 12000000 | H10: =G10*F10 -> 36000000
A11: 2 | B11: DỊCH VỤ ĐÀO TẠO | G11: 0 | H11: =G11*F11 -> 0
A12: 2.1 | B12: PHÒNG THỰC HÀNH KHÍ NÉN | D12: Ngày | F12: 4 | G12: 14000000 | H12: =G12*F12 -> 56000000
A13: 2.2 | B13: PHÒNG THỰC HÀNH THỦY LỰC | D13: Ngày | F13: 4 | G13: 14000000 | H13: =G13*F13 -> 56000000
A14: 2.3 | B14: PHÒNG THỰC HÀNH TỰ ĐỘNG HÓA
A15: 2.4 | B15: PHÒNG THỰC HÀNH MPS-PA | D15: Ngày | F15: 5 | G15: 60000000 | H15: =G15*F15 -> 300000000
A16: 2.5 | B16: HỆ THỐNG THỰC HÀNH MPS 4.0 - Công nghệ 4.0 | D16: Ngày | F16: 3 | G16: 60000000 | H16: =G16*F16 -> 180000000
A17: 2.6 | B17: PHÒNG THỰC HÀNH MPS | D17: Ngày | F17: 5 | G17: 60000000 | H17: =G17*F17 -> 300000000
A18: 2.7 | B18: PHÒNG THỰC HÀNH FMS | D18: Ngày | F18: 5 | G18: 60000000 | H18: =G18*F18 -> 300000000
B19: GIÁ TRỊ HÀNG HÓA | H19: =SUM(H4:H18) -> 1372000000
B20: V.A.T 10% | H20: =H19*0.1 -> 137200000
B21: TỔNG CỘNG | H21: =H19+H20 -> 1509200000
